BEGIN:VCALENDAR
VERSION:2.0
PRODID:-//Brahms-Baden-Baden - ECPv6.5.1//NONSGML v1.0//EN
CALSCALE:GREGORIAN
METHOD:PUBLISH
X-WR-CALNAME:Brahms-Baden-Baden
X-ORIGINAL-URL:https://brahms-baden-baden.de
X-WR-CALDESC:Veranstaltungen für Brahms-Baden-Baden
REFRESH-INTERVAL;VALUE=DURATION:PT1H
X-Robots-Tag:noindex
X-PUBLISHED-TTL:PT1H
BEGIN:VTIMEZONE
TZID:Europe/Paris
BEGIN:DAYLIGHT
TZOFFSETFROM:+0100
TZOFFSETTO:+0200
TZNAME:CEST
DTSTART:20260329T010000
END:DAYLIGHT
BEGIN:STANDARD
TZOFFSETFROM:+0200
TZOFFSETTO:+0100
TZNAME:CET
DTSTART:20261025T010000
END:STANDARD
END:VTIMEZONE
BEGIN:VEVENT
DTSTART;TZID=Europe/Paris:20260507T170000
DTEND;TZID=Europe/Paris:20260507T180000
DTSTAMP:20260422T124431
CREATED:20260225T132810Z
LAST-MODIFIED:20260226T100013Z
UID:4702-1778173200-1778176800@brahms-baden-baden.de
SUMMARY:HAUSKONZERT mit Prof. Angelika Nebel
DESCRIPTION:Musik im kleinsten Kreis – wie zu Brahms‘ Zeiten\n  \nLIEDTRANSKRIPTIONEN VON CLARA SCHUMANN  \nNACH LIEDERN ROBERT SCHUMANN \n  \nClara Schumann (1819 – 1896) \nAuswahl der 30 Liedtranskriptionen von Liedern Robert Schumanns für Klavier solo\n(entstanden zwischen Mai und Frühherbst 1873) \n  \nMit Moderation von Angelika Nebel. \nDas Projekt der Liedtranskriptionen wurde von Johannes Brahms begleitet\, der sämtliche Lieder während seines Aufenthaltes in Lichtental im Spätsommer 1873 durchsah und mit Anmerkungen versah. \nÄnderungen vorbehalten \n \nAngelika Nebel\, in Berlin geboren\, studierte an den Musikhochschulen in Stuttgart und Hannover\, wo sie von den renommierten Pädagogen Jürgen Uhde und Hans Leygraf ausgebildet wurde und das Studium mit dem Konzertexamen abschloss. Ihr Repertoire umfasst Solo-\, Kammermusik- und Orchesterwerke des 18.-21. Jahrhunderts\, die sie unter anderem als Gast verschiedener Festivals vortrug: Rheingau Musik Festival\, Konzerthaus Berlin\, Alte Oper Frankfurt\, Schumann-Fest Düsseldorf\, Semperoper Dresden\, Bad Hersfelder Festspielkonzerte\, Darmstädter Tage für zeitgenössische Musik. \nAngelika Nebel konzertierte in verschiedenen europäischen Ländern und in Süd-Korea. \nAußerdem arbeitete sie mit zahlreichen Rundfunksendern zusammen: WDR\, SWR\, HR\, NDR\, SFB\, Radio Bremen\, Radio Zürich\, dem Schwedischen und Spanischen Rundfunk und mit dem ZDF. Live-Mitschnitte im SWR Karlsruhe und für den Berliner Rundfunk. \n1995 wurde Angelika Nebel als Professorin an die Robert Schumann Hochschule in Düsseldorf berufen\, wo sie bis 2014 lehrte. Sie ist Mitglied im Frankfurter Tonkünstlerbund. \n  \nEINTRITT FREI – UM SPENDEN WIRD GEBETEN \nEs sind 12 Plätze verfügbar\, die in der Reihenfolge der eingehenden Anmeldungen \n– per Mail an info@brahms-baden-baden.de \noder tel. unter 07221 99872 – \nvergeben werden.
URL:https://brahms-baden-baden.de/event/hauskonzert-mit-prof-angelika-nebel-2/
LOCATION:Brahmshaus\, Maximilianstr.85\, Baden-Baden\, 76534\, Deutschland
END:VEVENT
BEGIN:VEVENT
DTSTART;TZID=Europe/Paris:20260507T190000
DTEND;TZID=Europe/Paris:20260507T200000
DTSTAMP:20260422T124431
CREATED:20260225T132717Z
LAST-MODIFIED:20260226T095907Z
UID:4705-1778180400-1778184000@brahms-baden-baden.de
SUMMARY:HAUSKONZERT mit Prof. Angelika Nebel
DESCRIPTION:Musik im kleinsten Kreis – wie zu Brahms‘ Zeiten\n  \nLIEDTRANSKRIPTIONEN VON CLARA SCHUMANN  \nNACH LIEDERN ROBERT SCHUMANN \n  \nClara Schumann (1819 – 1896) \nAuswahl der 30 Liedtranskriptionen von Liedern Robert Schumanns für Klavier solo\n(entstanden zwischen Mai und Frühherbst 1873) \n  \nMit Moderation von Angelika Nebel. \nDas Projekt der Liedtranskriptionen wurde von Johannes Brahms begleitet\, der sämtliche Lieder während seines Aufenthaltes in Lichtental im Spätsommer 1873 durchsah und mit Anmerkungen versah. \nÄnderungen vorbehalten \n \nAngelika Nebel\, in Berlin geboren\, studierte an den Musikhochschulen in Stuttgart und Hannover\, wo sie von den renommierten Pädagogen Jürgen Uhde und Hans Leygraf ausgebildet wurde und das Studium mit dem Konzertexamen abschloss. Ihr Repertoire umfasst Solo-\, Kammermusik- und Orchesterwerke des 18.-21. Jahrhunderts\, die sie unter anderem als Gast verschiedener Festivals vortrug: Rheingau Musik Festival\, Konzerthaus Berlin\, Alte Oper Frankfurt\, Schumann-Fest Düsseldorf\, Semperoper Dresden\, Bad Hersfelder Festspielkonzerte\, Darmstädter Tage für zeitgenössische Musik. \nAngelika Nebel konzertierte in verschiedenen europäischen Ländern und in Süd-Korea. \nAußerdem arbeitete sie mit zahlreichen Rundfunksendern zusammen: WDR\, SWR\, HR\, NDR\, SFB\, Radio Bremen\, Radio Zürich\, dem Schwedischen und Spanischen Rundfunk und mit dem ZDF. Live-Mitschnitte im SWR Karlsruhe und für den Berliner Rundfunk. \n1995 wurde Angelika Nebel als Professorin an die Robert Schumann Hochschule in Düsseldorf berufen\, wo sie bis 2014 lehrte. Sie ist Mitglied im Frankfurter Tonkünstlerbund. \n  \n  \nEINTRITT FREI – UM SPENDEN WIRD GEBETEN \nEs sind 12 Plätze verfügbar\, die in der Reihenfolge der eingehenden Anmeldungen \n– per Mail an info@brahms-baden-baden.de \noder tel. unter 07221 99872 – \nvergeben werden.
URL:https://brahms-baden-baden.de/event/hauskonzert-mit-prof-angelika-nebel/
LOCATION:Brahmshaus\, Maximilianstr.85\, Baden-Baden\, 76534\, Deutschland
END:VEVENT
BEGIN:VEVENT
DTSTART;TZID=Europe/Paris:20260517T170000
DTEND;TZID=Europe/Paris:20260517T183000
DTSTAMP:20260422T124431
CREATED:20250713T090145Z
LAST-MODIFIED:20260113T104306Z
UID:4292-1779037200-1779042600@brahms-baden-baden.de
SUMMARY:Hauskonzert mit JULIAN JAEYOUNG KIM
DESCRIPTION:Musik im kleinsten Kreis – wie zu Brahms‘ Zeiten\n  \n„Wenn das Klavier erzählt“\n– Franz Liszt: Paganini-Etüde Nr. 2 \n– Johannes Brahms: Variationen über ein Thema von Paganini\, op. 35 \n– Ludwig van Beethoven: Klaviersonate op. 81a \n– Maurice Ravel: Gaspard de la nuit \n  \n  \nEINTRITT FREI – UM SPENDEN WIRD GEBETEN \nEs sind 12 Plätze verfügbar\, die in der Reihenfolge der eingehenden Anmeldungen \n– per Mail an info@brahms-baden-baden.de \noder tel. unter 07221 99872 – \nvergeben werden. \n  \n\n  \n  \n  \n \n  \nJULIAN JAEYOUNG KIM \n“Julian’s flexible and intelligent interpretations reflect his command over rhythmic tension and tonal detail\, evoking echoes of masterful pianists like Nelson Freire.” \n-Gramophone \n  \n„Julian Kim shows a cleanliness and clarity in his playing that avoids all confusion\, leaving no shadows in his phrasing and making everything sound with crystalline clarity.“ \n—Scherzo \n  \nJulian Jaeyoung Kims Hingabe und Talent haben ihm zahlreiche Auszeichnungen und Preise bei internationalen Klavierwettbewerben eingebracht. \nBesonders hervorzuheben sind erste Preise bei renommierten Wettbewerben wie dem Orbetello International Piano Competition und dem Internationalen Klavierwettbewerb „Città di Barletta“ in Italien. Seine herausragenden Leistungen wurden zudem mit zweiten Preisen beim Juliusz Zarębski International Piano Competition in Polen\, dem Paul Badura-Skoda International Piano Competition in Wien\, dem „Città di San Donà di Piave“\, dem Ischia International Piano Competition sowie dem „Città di Sarzana“ International Piano Competition in Italien gewürdigt. Darüber hinaus war Julian Finalist oder Halbfinalist bei angesehenen Wettbewerben wie dem Pietro Argento International Piano Competition\, dem Verona International Piano Competition\, dem George Gershwin International Piano Competition\, dem Seattle International Piano Competition\, dem Ricard Viñes International Piano Competition und dem Campillos International Piano Competition. \nZu seinen wichtigsten Lehrern zählten Matti Raekallio\, Jeffrey Swann\, Bernadene Blaha\, Angela Cheng und Eteri Andjaparidze. \nAls Bechstein Artist begeistert Julian Jaeyoung Kim mit seinem Spiel weltweit das Publikum durch technische Brillanz\, emotionale Tiefe und künstlerische Sensibilität. Im Rahmen der renommierten Bechstein Concert Series trat er in zahlreichen Städten auf\, darunter Frankfurt\, Nürnberg\, Düsseldorf\, Köln\, Berlin\, Paris und Manchester\, und präsentierte sein außergewöhnliches Können auf den edelsten Instrumenten. \nJulian hat in vielen der bedeutendsten Konzertsäle der Welt gespielt. Zu den Höhepunkten zählen der Ehrbar Saal in Wien\, das Palais Lichtenau in Potsdam\, das Teatro Jofre in Spanien sowie die Theater Bellini und Rossini in Italien. Zudem trat er in Norwegens Troldhaugen Concert Hall sowie in renommierten Veranstaltungsorten in den Niederlanden und Finnland auf. In Nordamerika spielte er unter anderem im Klavierhaus\, Steinway Hall\, Opera America Hall in New York sowie im Gateway Theatre in Vancouver. \nIm Jahr 2024 unterzeichnete Julian einen Vertrag mit Hänssler Classic\, einem der führenden Klassiklabels. Sein kommendes Album mit einer Auswahl an Klaviersonaten von Beethoven wird unter diesem angesehenen Label veröffentlicht – mit großzügiger Unterstützung von C. Bechstein und Bärenreiter. Die Aufnahme wurde bereits von angesehenen Fachmagazinen wie Pizzicato\, American Record Guide\, InterludeHK und Clic Musique hochgelobt. Darüber hinaus wurde Julian in der Sendung Concerto des Schweizer Radios und Fernsehens (SRF)\, dem nationalen Klassiksender der Schweiz\, als Hauptkünstler vorgestellt. Im Mittelpunkt stand dabei sein zweites Beethoven-Sonaten-Album. \nIm Jahr 2025 unterzeichnete er einen Vertrag mit dem niederländischen Label Challenge Records für ein umfassendes Aufnahmeprojekt sämtlicher Klavierwerke von Brahms. \nDas Projekt wird sechs Alben umfassen\, die ab 2026 jährlich erscheinen. Als offizieller Bärenreiter-Botschafter wird er dieses Vorhaben in enger Zusammenarbeit mit dem Verlag realisieren. Zu jeder Veröffentlichung ist ein Hauskonzert im Brahmshaus geplant! \nKonzerttourneen in Europa und den USA sind ebenfalls geplant. \n  \nJulian ist Carl Bechstein Artist und offizieller Bärenreiter-Botschafter.
URL:https://brahms-baden-baden.de/event/hauskonzert-mit-julian-jaeyoung-kim/
END:VEVENT
BEGIN:VEVENT
DTSTART;TZID=Europe/Paris:20260531T170000
DTEND;TZID=Europe/Paris:20260531T180000
DTSTAMP:20260422T124431
CREATED:20260404T115453Z
LAST-MODIFIED:20260405T115653Z
UID:4785-1780246800-1780250400@brahms-baden-baden.de
SUMMARY:AMADEUS LEX - Kammermusik im Alten Ratssaal
DESCRIPTION:  \n  \n  \nJohannes Brahms \n(1833-1897) \nSonate Es-Dur Major\, Op. 120\, No. 2 \nJonathan Crosmer\, Viola \nMadeline Rogers\, Klavier \n  \nPyotr Ilyich Tchaikovsky \n(1840 – 1893) \nKlaviertrio A-Moll\, Op.50 \nSila Darville\, Violine \nLuke Darville\, Cello \nMadeline Rogers\, Klavier \n  \n \nRESTKARTEN AN DER TAGESKASSE \n\nAMADEUS LEX\nAmadeus Lex wurde 2021 von Dr. Jonathan Crosmer mit dem Ziel gegründet\, spannende\, kraftvolle und zugängliche Kammermusikkonzerte zu präsentieren. Im Jahr 2024 wurde es als gemeinnützige Organisation nach 501(c)(3) umstrukturiert\, Amadeus Lex Inc. In dieser Saison wird er von Dr. Madeline Rogers als Co-künstlerischer Leiter unterstützt. \nDas Motto:   „Musik macht Spaß\, Musik ist bedeutungsvoll und Musik ist für alle da!“ \n\n\n🎹 Madeline Rogers\n• stammt ursprünglich aus Eldorado\, Illinois \n• erwarb einen Master of Music an der Indiana University Jacobs School of Music als Studentin von André Watts sowie einen Doctor of Musical Arts an der University of Nebraska bei Paul Barnes \n• ist sowohl als Solistin als auch als Kammermusikerin in den USA und im Ausland gefragt \n• Co-künstlerische Leiterin des in Lexington ansässigen Kammermusikensembles Amadeus Lex• Professorin für Klavier am Berea College in Berea\, Kentucky \n  \n🎻 Sila Darville\n\nTürkische Geigerin und Bratschistin\nProfessorin für Violine und Viola an der Eastern Kentucky University\nInternationale Ausbildung (Istanbul\, Minnesota\, Texas)\nZahlreiche Preise und Auszeichnungen (u. a. internationale Wettbewerbe)\nUmfangreiche Orchestererfahrung (z. B. Amarillo Symphony\, Louisville Orchestra)\nSehr aktiv als Solistin\, Kammermusikerin und Pädagogin\n2023 ausgezeichnet als „Outstanding Educator“ in Kentucky\n\n🎻 Luke Darville\n\nAmerikanischer Cellist aus Kentucky\nStudium u. a. an der University of Louisville und University of Minnesota\nOrchesterdirigent/Lehrer (Model Laboratory Schools\, Richmond\, KY)\,langjährige pädagogische Tätigkeit (Schule\, College\, Privatstudio)\n\n🎻Jonathan Crosmer\n\nAmerikanischer Komponist\, Bratschist und Pianist\nParallelkarriere als Software-Ingenieur\nKomponiert vor allem Kammermusik und Werke für Streicher\n\nAutumn Suite (Viola solo)\nFairy Tales für 4 Violen\nHeroic Variations (Kammermusik)
URL:https://brahms-baden-baden.de/event/madeline-rogers-friends-kammermusik-im-alten-ratssaal/
LOCATION:Alter Ratssaal\, Rathaus Baden-Baden\, Marktplatz 2\, Baden-Baden\, 76530
END:VEVENT
BEGIN:VEVENT
DTSTART;TZID=Europe/Paris:20260621T170000
DTEND;TZID=Europe/Paris:20260621T180000
DTSTAMP:20260422T124431
CREATED:20260404T102801Z
LAST-MODIFIED:20260404T142325Z
UID:4775-1782061200-1782064800@brahms-baden-baden.de
SUMMARY:Eine Widmung in Tönen - Hauskonzert mit YUZUKA OKADA
DESCRIPTION:Musik im kleinsten Kreis – wie zu Brahms‘ Zeiten\nEINTRITT FREI – UM SPENDEN WIRD GEBETEN \nEs sind 12 Plätze verfügbar\, die in der Reihenfolge der eingehenden Anmeldungen \n– per Mail an info@brahms-baden-baden.de \noder tel. unter 07221 99872 – \nvergeben werden. \n  \n  \n  \n \nYuzuka Okada präsentiert in Ihrem Konzert ein abwechslungsreiches Klavierprogramm und spannt den Bogen von barocker Virtuosität bis zur Klangsprache des 20. Jahrhunderts. \nIm Zentrum steht die frühe Klaviersonate Nr.2\, Op.2 von Johannes Brahms. Der damals 20jährige widmete diese Sonate seiner lebenslangen Freundin und Pianistin Clara Schumann. \n  \nIn Zusammenarbeit mit Frau Prof. Patricia Pagny\, Hochschule der Künste Bern \nund \n \n  \n  \nDomenico Scarlatti (1685-1757)  \nSonate h-moll K87 \n  \nClara Schumann (1819-1896) \n3 Romanzen  Op.11 (1838/39) \nI- Andante \nII- Andante \nIII-Moderato \n  \nJohannes Brahms (1833-1897)  \nSonate in fis-moll Nr.2 Op.2 (1852) \nI-Allegro non troppo\, ma energico \nII-Andante con espressione \nIII-Scherzo. Allegro — Trio. Poco più moderato \nIV-Finale. Sostenuto — Allegro non troppo e rubato \n  \nFrancis Poulenc (1899-1963)  \nThème varié FP151 (1951) \nThème: Très calme et sans hâte\nVariation I: Joyeuse. Allegro molto\nVariation II: Noble. Lent\nVariation III: Pastorale. Allegretto\nVariation IV: Sarcastique. Allegro molto\, très violent\nVariation V: Mélancolique. Très calme\nVariation VI: Ironique. Allegretto\nVariation VII: Elégiaque. Excessivement lent\nVariation VIII: Volubile. Presto\nVariation IX: Fantasque. Allegro molto\nVariation X: Sybilline. Bien lent\nVariation XI: Finale. Allegro molto – Coda. Molto agitato \n  \n  \nYuzuka Okada studierte am Tokyo College of Music und setzt derzeit ihr Studium an der Hochschule der Künste Bern in der Meisterklasse von Patricia Pagny fort.\nSie hat zahlreiche Wettbewerbe gewonnen\, Erster Preis des internationalen KOBE-Wettbewerbs (2022)\, Sonderpreis des internationalen Kammermusikwettbewerbs „Salzburg=Mozart“ in Tokio (ebenfalls 2022) als Mitglied des Freesia-Ensembles. \nDer Wettbewerb „Talento Contemporaneo F.V.G.“ in Triest (Italien) verlieh ihr im September 2024 den ersten Preis. \nHeute tritt Yuzuka als Solistin und Kammermusikerin auf und strebt eine Karriere an\, die sie international bekannt macht\, während sie gleichzeitig einen ständigen Kontakt zu ihrem Heimatland aufrechterhält. \nErst kürzlich gab sie ihr Debüt in der Schweiz\, Frankreich\, Italien und Deutschland. \n 
URL:https://brahms-baden-baden.de/event/eine-widmung-in-toenen-hauskonzert-mit-yuzuka-okada/
LOCATION:Brahmshaus\, Maximilianstr.85\, Baden-Baden\, 76534\, Deutschland
END:VEVENT
END:VCALENDAR